{
 "currentVersion": 11.3,
 "cimVersion": "3.3.0",
 "serviceDescription": "",
 "mapName": "Drainage_class_score2",
 "description": "",
 "copyrightText": "",
 "supportsDynamicLayers": true,
 "layers": [
  {
   "id": 0,
   "name": "Drainage_class_score2",
   "parentLayerId": -1,
   "defaultVisibility": true,
   "subLayerIds": null,
   "minScale": 0,
   "maxScale": 0,
   "type": "Raster Layer",
   "supportsDynamicLegends": true
  }
 ],
 "tables": [],
 "spatialReference": {
  "wkid": 102039,
  "latestWkid": 102039,
  "xyTolerance": 0.001,
  "zTolerance": 0.001,
  "mTolerance": 0.001,
  "falseX": -16901100,
  "falseY": -6972200,
  "xyUnits": 10000,
  "falseZ": -100000,
  "zUnits": 10000,
  "falseM": -100000,
  "mUnits": 10000
 },
 "singleFusedMapCache": true,
 "tileInfo": {
  "rows": 256,
  "cols": 256,
  "dpi": 96,
  "format": "Mixed",
  "compressionQuality": 75,
  "origin": {
   "x": -1.6900977339992262E7,
   "y": 2.106395117933842E7
  },
  "spatialReference": {
   "wkid": 102039,
   "latestWkid": 102039,
   "xyTolerance": 0.001,
   "zTolerance": 0.001,
   "mTolerance": 0.001,
   "falseX": -16901100,
   "falseY": -6972200,
   "xyUnits": 10000,
   "falseZ": -100000,
   "zUnits": 10000,
   "falseM": -100000,
   "mUnits": 10000
  },
  "lods": [
   {
    "level": 0,
    "resolution": 132038.88546868955,
    "scale": 4.9904460649583447E8
   },
   {
    "level": 1,
    "resolution": 66019.44273434478,
    "scale": 2.4952230324791723E8
   },
   {
    "level": 2,
    "resolution": 33009.72136717239,
    "scale": 1.2476115162395862E8
   },
   {
    "level": 3,
    "resolution": 16504.860683586194,
    "scale": 6.238057581197931E7
   },
   {
    "level": 4,
    "resolution": 8252.430341793097,
    "scale": 3.1190287905989654E7
   },
   {
    "level": 5,
    "resolution": 4126.215170896548,
    "scale": 1.5595143952994827E7
   },
   {
    "level": 6,
    "resolution": 2063.107585448274,
    "scale": 7797571.976497414
   },
   {
    "level": 7,
    "resolution": 1031.553792724137,
    "scale": 3898785.988248707
   },
   {
    "level": 8,
    "resolution": 515.7768963620686,
    "scale": 1949392.9941243534
   },
   {
    "level": 9,
    "resolution": 257.8884481810343,
    "scale": 974696.4970621767
   },
   {
    "level": 10,
    "resolution": 128.94422409051714,
    "scale": 487348.24853108835
   },
   {
    "level": 11,
    "resolution": 64.47211204525857,
    "scale": 243674.12426554417
   },
   {
    "level": 12,
    "resolution": 32.236056022629285,
    "scale": 121837.06213277209
   },
   {
    "level": 13,
    "resolution": 16.118028011314642,
    "scale": 60918.531066386044
   },
   {
    "level": 14,
    "resolution": 8.059014005657321,
    "scale": 30459.265533193022
   },
   {
    "level": 15,
    "resolution": 4.029507002828661,
    "scale": 15229.632766596511
   },
   {
    "level": 16,
    "resolution": 2.0147535014143303,
    "scale": 7614.8163832982555
   },
   {
    "level": 17,
    "resolution": 1.0073767507071651,
    "scale": 3807.4081916491277
   },
   {
    "level": 18,
    "resolution": 0.5036883753535826,
    "scale": 1903.7040958245639
   }
  ]
 },
 "storageInfo": {
  "storageFormat": "esriMapCacheStorageModeCompactV2",
  "packetSize": 128
 },
 "initialExtent": {
  "xmin": 85550.61593009817,
  "ymin": 1547697.2866054277,
  "xmax": 919772.7027817271,
  "ymax": 2836218.630393124,
  "spatialReference": {
   "wkid": 102039,
   "latestWkid": 102039,
   "xyTolerance": 0.001,
   "zTolerance": 0.001,
   "mTolerance": 0.001,
   "falseX": -16901100,
   "falseY": -6972200,
   "xyUnits": 10000,
   "falseZ": -100000,
   "zUnits": 10000,
   "falseM": -100000,
   "mUnits": 10000
  }
 },
 "fullExtent": {
  "xmin": -352638.3406440874,
  "ymin": 1434487.958499276,
  "xmax": 1357961.6593559128,
  "ymax": 2949427.958499276,
  "spatialReference": {
   "wkid": 102039,
   "latestWkid": 102039,
   "xyTolerance": 0.001,
   "zTolerance": 0.001,
   "mTolerance": 0.001,
   "falseX": -16901100,
   "falseY": -6972200,
   "xyUnits": 10000,
   "falseZ": -100000,
   "zUnits": 10000,
   "falseM": -100000,
   "mUnits": 10000
  }
 },
 "datesInUnknownTimezone": false,
 "minScale": 4.9904460649583447E8,
 "maxScale": 30459.265533193022,
 "units": "esriMeters",
 "supportedImageFormatTypes": "PNG32,PNG24,PNG,JPG,DIB,TIFF,EMF,PS,PDF,GIF,SVG,SVGZ,BMP",
 "documentInfo": {
  "Title": "Map",
  "Author": "",
  "Comments": "",
  "Subject": "",
  "Category": "",
  "Version": "3.2.0",
  "AntialiasingMode": "Fast",
  "TextAntialiasingMode": "Force",
  "Keywords": ""
 },
 "supportsQueryDomains": true,
 "capabilities": "Map,Query,Data",
 "supportedQueryFormats": "JSON, geoJSON, PBF",
 "exportTilesAllowed": false,
 "referenceScale": 0.0,
 "datumTransformations": [
  {
   "geoTransforms": [
    {
     "wkid": 108190,
     "latestWkid": 108190,
     "transformForward": true,
     "name": "WGS_1984_(ITRF00)_To_NAD_1983"
    }
   ]
  },
  {
   "geoTransforms": [
    {
     "wkid": 108190,
     "latestWkid": 108190,
     "transformForward": false,
     "name": "WGS_1984_(ITRF00)_To_NAD_1983"
    }
   ]
  },
  {
   "geoTransforms": [
    {
     "wkid": 108190,
     "latestWkid": 108190,
     "transformForward": true,
     "name": "WGS_1984_(ITRF00)_To_NAD_1983"
    }
   ]
  },
  {
   "geoTransforms": [
    {
     "wkid": 108190,
     "latestWkid": 108190,
     "transformForward": false,
     "name": "WGS_1984_(ITRF00)_To_NAD_1983"
    }
   ]
  }
 ],
 "supportsDatumTransformation": true,
 "archivingInfo": {
  "supportsHistoricMoment": false
 },
 "supportsClipping": true,
 "supportsSpatialFilter": true,
 "supportsTimeRelation": true,
 "supportsQueryDataElements": true,
 "mapUnits": {
  "uwkid": 9001
 },
 "maxRecordCount": 2000,
 "maxImageHeight": 4096,
 "maxImageWidth": 4096,
 "supportedExtensions": ""
}
