<?xml version="1.0" encoding="UTF-8"?>
<Capabilities xmlns="http://www.opengis.net/wmts/1.0"
xmlns:ows="http://www.opengis.net/ows/1.1"
xmlns:xlink="http://www.w3.org/1999/xlink"
xmlns:xsi="http://www.w3.org/2001/XMLSchema-instance"
xmlns:gml="http://www.opengis.net/gml"
xsi:schemaLocation="http://www.opengis.net/wmts/1.0 http://schemas.opengis.net/wmts/1.0/wmtsGetCapabilities_response.xsd"
version="1.0.0">
<!-- Service Identification --> <ows:ServiceIdentification>
<ows:Title>Ag_Drainage_class_score2</ows:Title>
<ows:ServiceType>OGC WMTS</ows:ServiceType>
<ows:ServiceTypeVersion>1.0.0</ows:ServiceTypeVersion>
</ows:ServiceIdentification> <!-- Operations Metadata --> <ows:OperationsMetadata>
<ows:Operation name="GetCapabilities">
<ows:DCP>
<ows:HTTP>
<ows:Get xlink:href="https://mapsweb.lib.purdue.edu/arcgis/rest/services/Ag/Drainage_class_score2/MapServer/WMTS/1.0.0/WMTSCapabilities.xml">
<ows:Constraint name="GetEncoding">
<ows:AllowedValues>
<ows:Value>RESTful</ows:Value>
</ows:AllowedValues>
</ows:Constraint>
</ows:Get>
<!-- add KVP binding in 10.1 -->
<ows:Get xlink:href="https://mapsweb.lib.purdue.edu/arcgis/rest/services/Ag/Drainage_class_score2/MapServer/WMTS?">
<ows:Constraint name="GetEncoding">
<ows:AllowedValues>
<ows:Value>KVP</ows:Value>
</ows:AllowedValues>
</ows:Constraint>
</ows:Get>
</ows:HTTP>
</ows:DCP>
</ows:Operation>
<ows:Operation name="GetTile">
<ows:DCP>
<ows:HTTP>
<ows:Get xlink:href="https://mapsweb.lib.purdue.edu/arcgis/rest/services/Ag/Drainage_class_score2/MapServer/WMTS/tile/1.0.0/">
<ows:Constraint name="GetEncoding">
<ows:AllowedValues>
<ows:Value>RESTful</ows:Value>
</ows:AllowedValues>
</ows:Constraint>
</ows:Get>
<ows:Get xlink:href="https://mapsweb.lib.purdue.edu/arcgis/rest/services/Ag/Drainage_class_score2/MapServer/WMTS?">
<ows:Constraint name="GetEncoding">
<ows:AllowedValues>
<ows:Value>KVP</ows:Value>
</ows:AllowedValues>
</ows:Constraint>
</ows:Get>
</ows:HTTP>
</ows:DCP>
</ows:Operation>
</ows:OperationsMetadata> <Contents>
<!--Layer--> <Layer>
<ows:Title>Ag_Drainage_class_score2</ows:Title> <ows:Identifier>Ag_Drainage_class_score2</ows:Identifier>
<ows:BoundingBox crs="urn:ogc:def:crs:EPSG::102039">
<ows:LowerCorner>-352638.3406440874 1434487.958499276</ows:LowerCorner>
<ows:UpperCorner>1357961.6593559128 2949427.958499276</ows:UpperCorner>
</ows:BoundingBox> <ows:WGS84BoundingBox crs="urn:ogc:def:crs:OGC:2:84">
<ows:LowerCorner>-100.79746516535324 34.99846021447968</ows:LowerCorner>
<ows:UpperCorner>-77.73811201794885 49.557931299365364</ows:UpperCorner>
</ows:WGS84BoundingBox>
<Style isDefault="true">
<ows:Title>Default Style</ows:Title>
<ows:Identifier>default</ows:Identifier>
</Style>
<Format>image/jpgpng</Format>
<TileMatrixSetLink>
<TileMatrixSet>default028mm</TileMatrixSet>
</TileMatrixSetLink>
<ResourceURL format="image/jpgpng" resourceType="tile" template="https://mapsweb.lib.purdue.edu/arcgis/rest/services/Ag/Drainage_class_score2/MapServer/WMTS/tile/1.0.0/Ag_Drainage_class_score2/{Style}/{TileMatrixSet}/{TileMatrix}/{TileRow}/{TileCol}" />
</Layer> <!--TileMatrixSet-->
<TileMatrixSet>
<ows:Title>TileMatrix using 0.28mm</ows:Title>
<ows:Abstract>The tile matrix set that has scale values calculated based on the dpi defined by OGC specification (dpi assumes 0.28mm as the physical distance of a pixel).</ows:Abstract> <ows:Identifier>default028mm</ows:Identifier>
<ows:SupportedCRS>urn:ogc:def:crs:EPSG::102039</ows:SupportedCRS>
<TileMatrix>
<ows:Identifier>0</ows:Identifier>
<ScaleDenominator>4.715674481024034E8</ScaleDenominator>
<TopLeftCorner>-1.6900977339992262E7 2.106395117933842E7</TopLeftCorner> <TileWidth>256</TileWidth> <TileHeight>256</TileHeight>
<MatrixWidth>1</MatrixWidth> <MatrixHeight>1</MatrixHeight>
</TileMatrix>
<TileMatrix>
<ows:Identifier>1</ows:Identifier>
<ScaleDenominator>2.357837240512017E8</ScaleDenominator>
<TopLeftCorner>-1.6900977339992262E7 2.106395117933842E7</TopLeftCorner> <TileWidth>256</TileWidth> <TileHeight>256</TileHeight>
<MatrixWidth>2</MatrixWidth> <MatrixHeight>2</MatrixHeight>
</TileMatrix>
<TileMatrix>
<ows:Identifier>2</ows:Identifier>
<ScaleDenominator>1.1789186202560085E8</ScaleDenominator>
<TopLeftCorner>-1.6900977339992262E7 2.106395117933842E7</TopLeftCorner> <TileWidth>256</TileWidth> <TileHeight>256</TileHeight>
<MatrixWidth>3</MatrixWidth> <MatrixHeight>3</MatrixHeight>
</TileMatrix>
<TileMatrix>
<ows:Identifier>3</ows:Identifier>
<ScaleDenominator>5.8945931012800425E7</ScaleDenominator>
<TopLeftCorner>-1.6900977339992262E7 2.106395117933842E7</TopLeftCorner> <TileWidth>256</TileWidth> <TileHeight>256</TileHeight>
<MatrixWidth>5</MatrixWidth> <MatrixHeight>5</MatrixHeight>
</TileMatrix>
<TileMatrix>
<ows:Identifier>4</ows:Identifier>
<ScaleDenominator>2.9472965506400213E7</ScaleDenominator>
<TopLeftCorner>-1.6900977339992262E7 2.106395117933842E7</TopLeftCorner> <TileWidth>256</TileWidth> <TileHeight>256</TileHeight>
<MatrixWidth>9</MatrixWidth> <MatrixHeight>10</MatrixHeight>
</TileMatrix>
<TileMatrix>
<ows:Identifier>5</ows:Identifier>
<ScaleDenominator>1.4736482753200106E7</ScaleDenominator>
<TopLeftCorner>-1.6900977339992262E7 2.106395117933842E7</TopLeftCorner> <TileWidth>256</TileWidth> <TileHeight>256</TileHeight>
<MatrixWidth>18</MatrixWidth> <MatrixHeight>19</MatrixHeight>
</TileMatrix>
<TileMatrix>
<ows:Identifier>6</ows:Identifier>
<ScaleDenominator>7368241.376600053</ScaleDenominator>
<TopLeftCorner>-1.6900977339992262E7 2.106395117933842E7</TopLeftCorner> <TileWidth>256</TileWidth> <TileHeight>256</TileHeight>
<MatrixWidth>35</MatrixWidth> <MatrixHeight>38</MatrixHeight>
</TileMatrix>
<TileMatrix>
<ows:Identifier>7</ows:Identifier>
<ScaleDenominator>3684120.6883000266</ScaleDenominator>
<TopLeftCorner>-1.6900977339992262E7 2.106395117933842E7</TopLeftCorner> <TileWidth>256</TileWidth> <TileHeight>256</TileHeight>
<MatrixWidth>70</MatrixWidth> <MatrixHeight>75</MatrixHeight>
</TileMatrix>
<TileMatrix>
<ows:Identifier>8</ows:Identifier>
<ScaleDenominator>1842060.3441500133</ScaleDenominator>
<TopLeftCorner>-1.6900977339992262E7 2.106395117933842E7</TopLeftCorner> <TileWidth>256</TileWidth> <TileHeight>256</TileHeight>
<MatrixWidth>139</MatrixWidth> <MatrixHeight>149</MatrixHeight>
</TileMatrix>
<TileMatrix>
<ows:Identifier>9</ows:Identifier>
<ScaleDenominator>921030.1720750066</ScaleDenominator>
<TopLeftCorner>-1.6900977339992262E7 2.106395117933842E7</TopLeftCorner> <TileWidth>256</TileWidth> <TileHeight>256</TileHeight>
<MatrixWidth>277</MatrixWidth> <MatrixHeight>298</MatrixHeight>
</TileMatrix>
<TileMatrix>
<ows:Identifier>10</ows:Identifier>
<ScaleDenominator>460515.0860375033</ScaleDenominator>
<TopLeftCorner>-1.6900977339992262E7 2.106395117933842E7</TopLeftCorner> <TileWidth>256</TileWidth> <TileHeight>256</TileHeight>
<MatrixWidth>554</MatrixWidth> <MatrixHeight>595</MatrixHeight>
</TileMatrix>
<TileMatrix>
<ows:Identifier>11</ows:Identifier>
<ScaleDenominator>230257.54301875166</ScaleDenominator>
<TopLeftCorner>-1.6900977339992262E7 2.106395117933842E7</TopLeftCorner> <TileWidth>256</TileWidth> <TileHeight>256</TileHeight>
<MatrixWidth>1107</MatrixWidth> <MatrixHeight>1190</MatrixHeight>
</TileMatrix>
<TileMatrix>
<ows:Identifier>12</ows:Identifier>
<ScaleDenominator>115128.77150937583</ScaleDenominator>
<TopLeftCorner>-1.6900977339992262E7 2.106395117933842E7</TopLeftCorner> <TileWidth>256</TileWidth> <TileHeight>256</TileHeight>
<MatrixWidth>2213</MatrixWidth> <MatrixHeight>2379</MatrixHeight>
</TileMatrix>
<TileMatrix>
<ows:Identifier>13</ows:Identifier>
<ScaleDenominator>57564.385754687915</ScaleDenominator>
<TopLeftCorner>-1.6900977339992262E7 2.106395117933842E7</TopLeftCorner> <TileWidth>256</TileWidth> <TileHeight>256</TileHeight>
<MatrixWidth>4426</MatrixWidth> <MatrixHeight>4758</MatrixHeight>
</TileMatrix>
<TileMatrix>
<ows:Identifier>14</ows:Identifier>
<ScaleDenominator>28782.192877343958</ScaleDenominator>
<TopLeftCorner>-1.6900977339992262E7 2.106395117933842E7</TopLeftCorner> <TileWidth>256</TileWidth> <TileHeight>256</TileHeight>
<MatrixWidth>8851</MatrixWidth> <MatrixHeight>9515</MatrixHeight>
</TileMatrix>
<TileMatrix>
<ows:Identifier>15</ows:Identifier>
<ScaleDenominator>14391.096438671979</ScaleDenominator>
<TopLeftCorner>-1.6900977339992262E7 2.106395117933842E7</TopLeftCorner> <TileWidth>256</TileWidth> <TileHeight>256</TileHeight>
<MatrixWidth>17701</MatrixWidth> <MatrixHeight>19030</MatrixHeight>
</TileMatrix>
<TileMatrix>
<ows:Identifier>16</ows:Identifier>
<ScaleDenominator>7195.548219335989</ScaleDenominator>
<TopLeftCorner>-1.6900977339992262E7 2.106395117933842E7</TopLeftCorner> <TileWidth>256</TileWidth> <TileHeight>256</TileHeight>
<MatrixWidth>35401</MatrixWidth> <MatrixHeight>38059</MatrixHeight>
</TileMatrix>
<TileMatrix>
<ows:Identifier>17</ows:Identifier>
<ScaleDenominator>3597.7741096679947</ScaleDenominator>
<TopLeftCorner>-1.6900977339992262E7 2.106395117933842E7</TopLeftCorner> <TileWidth>256</TileWidth> <TileHeight>256</TileHeight>
<MatrixWidth>70802</MatrixWidth> <MatrixHeight>76117</MatrixHeight>
</TileMatrix>
<TileMatrix>
<ows:Identifier>18</ows:Identifier>
<ScaleDenominator>1798.8870548339974</ScaleDenominator>
<TopLeftCorner>-1.6900977339992262E7 2.106395117933842E7</TopLeftCorner> <TileWidth>256</TileWidth> <TileHeight>256</TileHeight>
<MatrixWidth>141604</MatrixWidth> <MatrixHeight>152233</MatrixHeight>
</TileMatrix>
</TileMatrixSet>
</Contents>
<ServiceMetadataURL xlink:href="https://mapsweb.lib.purdue.edu/arcgis/rest/services/Ag/Drainage_class_score2/MapServer/WMTS/1.0.0/WMTSCapabilities.xml" /> </Capabilities>
