{
 "maxImageWidth": 4096,
 "maxRecordCount": 2000,
 "tileInfo": {
  "lods": [
   {
    "level": 0,
    "scale": 591657527.591555,
    "resolution": 156543.03392799999
   },
   {
    "level": 1,
    "scale": 295828763.79577702,
    "resolution": 78271.516963999893
   },
   {
    "level": 2,
    "scale": 147914381.89788899,
    "resolution": 39135.758482000099
   },
   {
    "level": 3,
    "scale": 73957190.948944002,
    "resolution": 19567.879240999901
   },
   {
    "level": 4,
    "scale": 36978595.474472001,
    "resolution": 9783.9396204999593
   },
   {
    "level": 5,
    "scale": 18489297.737236001,
    "resolution": 4891.9698102499797
   },
   {
    "level": 6,
    "scale": 9244648.8686180003,
    "resolution": 2445.9849051249898
   },
   {
    "level": 7,
    "scale": 4622324.4343090001,
    "resolution": 1222.9924525624899
   },
   {
    "level": 8,
    "scale": 2311162.2171550002,
    "resolution": 611.49622628138002
   },
   {
    "level": 9,
    "scale": 1155581.108577,
    "resolution": 305.74811314055802
   },
   {
    "level": 10,
    "scale": 577790.55428899999,
    "resolution": 152.874056570411
   },
   {
    "level": 11,
    "scale": 288895.27714399999,
    "resolution": 76.437028285073197
   },
   {
    "level": 12,
    "scale": 144447.638572,
    "resolution": 38.218514142536598
   },
   {
    "level": 13,
    "scale": 72223.819285999998,
    "resolution": 19.109257071268299
   },
   {
    "level": 14,
    "scale": 36111.909642999999,
    "resolution": 9.5546285356341496
   },
   {
    "level": 15,
    "scale": 18055.954822,
    "resolution": 4.7773142679493699
   },
   {
    "level": 16,
    "scale": 9027.9774109999998,
    "resolution": 2.38865713397468
   },
   {
    "level": 17,
    "scale": 4513.9887049999998,
    "resolution": 1.1943285668550501
   },
   {
    "level": 18,
    "scale": 2256.994353,
    "resolution": 0.59716428355981699
   },
   {
    "level": 19,
    "scale": 1128.4971760000001,
    "resolution": 0.29858214164761698
   },
   {
    "level": 20,
    "scale": 564.24858800000004,
    "resolution": 0.14929107082380833
   },
   {
    "level": 21,
    "scale": 282.12429400000002,
    "resolution": 0.074645535411904163
   },
   {
    "level": 22,
    "scale": 141.06214700000001,
    "resolution": 0.037322767705952081
   },
   {
    "level": 23,
    "scale": 70.531073500000005,
    "resolution": 0.018661383852976041
   }
  ],
  "origin": {
   "x": -20037508.342787001,
   "y": 20037508.342787001
  },
  "format": "Mixed",
  "compressionQuality": 75,
  "rows": 256,
  "dpi": 96,
  "spatialReference": {
   "falseM": -100000,
   "xyTolerance": 0.001,
   "mUnits": 10000,
   "zUnits": 10000,
   "latestWkid": 3857,
   "zTolerance": 0.001,
   "wkid": 102100,
   "xyUnits": 10000,
   "mTolerance": 0.001,
   "falseX": -20037700,
   "falseY": -30241100,
   "falseZ": -100000
  },
  "cols": 256
 },
 "datesInUnknownTimezone": false,
 "supportsQueryDomains": true,
 "maxSelectionCount": 2000,
 "supportedImageFormatTypes": "PNG32,PNG24,PNG,JPG,DIB,TIFF,EMF,PS,PDF,GIF,SVG,SVGZ,BMP",
 "spatialReferenceType": "pcs",
 "maxImageHeight": 4096,
 "tables": [],
 "cimVersion": "3.7.0",
 "layers": [
  {
   "subLayerIds": null,
   "maxScale": 0,
   "name": "Kenya 1982 Soil Survey",
   "defaultVisibility": true,
   "id": 0,
   "minScale": 0,
   "supportsDynamicLegends": true,
   "type": "Raster Layer",
   "parentLayerId": -1
  }
 ],
 "archivingInfo": {
  "supportsHistoricMoment": false
 },
 "spatialReferenceDomain": {
  "ymin": -30241100,
  "xmin": -20037700,
  "ymax": 900689684374.099,
  "xmax": 900699887774.099
 },
 "spatialReference": {
  "falseM": -100000,
  "xyTolerance": 0.001,
  "mUnits": 10000,
  "zUnits": 10000,
  "latestWkid": 3857,
  "zTolerance": 0.001,
  "wkid": 102100,
  "xyUnits": 10000,
  "mTolerance": 0.001,
  "falseX": -20037700,
  "falseY": -30241100,
  "falseZ": -100000
 },
 "fullExtent": {
  "ymin": -523707.70179999992,
  "xmin": 3779466.0819999985,
  "ymax": 600193.75284100021,
  "xmax": 4662992.1802589986,
  "spatialReference": {
   "cs": "pcs",
   "wkid": 102100
  }
 },
 "currentVersion": 12.1,
 "hasBranchVersionedData": false,
 "referenceScale": 0,
 "supportsSpatialFilter": true,
 "maxLOD": 12,
 "initialExtent": {
  "ymin": -480275.96280754579,
  "xmin": 3563875.7862560377,
  "ymax": 771945.15592732478,
  "xmax": 4985087.6092736162,
  "spatialReference": {
   "cs": "pcs",
   "wkid": 102100
  }
 },
 "supportsTimeRelation": true,
 "documentInfo": {
  "Category": "",
  "Keywords": "Kenya",
  "Version": "3.7.0",
  "Comments": "Sombroek, W.G., H.M.H. Braun, and B.J.A. van der Pouw. 1982. Exploratory soil map and agro-climatic zone map of Kenya, 1980. Scale 1:1,000,000. Kenya Soil Survey, Report E1, Nairobi, Kenya. Online at https://library.wur.nl/isric/fulltext/isricu_i00006336_001.03.pdf. Scanned map available at https://esdac.jrc.ec.europa.eu/content/exploratory-soil-map-kenya-appendix-1-report-no-e1. Shapefile provided by the International Livestock Research Institute (https://www.ilri.org). We thank the Kenya Soil Survey for permission to republish this map. Digital map by J. Minai, M. Ngunjiri, and D. G. Schulze, Purdue University. Funding for this digital map provided by the Purdue Center for Global Food Security.",
  "AntialiasingMode": "Fast",
  "Title": "Kenya Exploratory Soil Map 1980",
  "Author": "",
  "TextAntialiasingMode": "Force",
  "Subject": "Kenya Exploratory Soil Map 1980"
 },
 "wmtsScaleFactor": 0.00028000000000003521,
 "geoFullExtent": {
  "ymin": -4.6992688621723913,
  "xmin": 33.951521472719236,
  "ymax": 5.3836925134993088,
  "xmax": 41.888371452564691
 },
 "description": "Sombroek, W.G., H.M.H. Braun, and B.J.A. van der Pouw. 1982. Exploratory soil map and agro-climatic zone map of Kenya, 1980. Scale 1:1,000,000. Kenya Soil Survey, Report E1, Nairobi, Kenya. Online at https://library.wur.nl/isric/fulltext/isricu_i00006336_001.03.pdf. Scanned map available at https://esdac.jrc.ec.europa.eu/content/exploratory-soil-map-kenya-appendix-1-report-no-e1. Shapefile provided by the International Livestock Research Institute (https://www.ilri.org). We thank the Kenya Soil Survey for permission to republish this map. Digital map by J. Minai, M. Ngunjiri, and D. G. Schulze, Purdue University. Funding for this digital map provided by the Purdue Center for Global Food Security.",
 "units": "esriMeters",
 "supportsClipping": true,
 "exportTilesAllowed": false,
 "hasVersionedData": false,
 "supportsDatumTransformation": true,
 "supportsQueryDataElements": true,
 "mapName": "KEN_Expl_Soil_Map_1980",
 "minScale": 591657527.591555,
 "tileImageInfo": {
  "bandCount": 1,
  "lercError": 0,
  "format": "Mixed",
  "compressionQuality": 75
 },
 "supportedExtensions": "WMSServer",
 "serviceItemId": "c31dc9f683fd45e8b0859f6c08ac2407",
 "capabilities": "Query,Map,Data,Tilemap",
 "supportsDynamicLayers": true,
 "maxScale": 144447.638572,
 "singleFusedMapCache": true,
 "storageInfo": {
  "storageFormat": "esriMapCacheStorageModeCompactV2",
  "packetSize": 128
 },
 "mapUnits": {
  "uwkid": 9001
 },
 "minLOD": 0,
 "supportedQueryFormats": "JSON, geoJSON, PBF",
 "serviceDescription": "Sombroek, W.G., H.M.H. Braun, and B.J.A. van der Pouw. 1982. Exploratory soil map and agro-climatic zone map of Kenya, 1980. Scale 1:1,000,000. Kenya Soil Survey, Report E1, Nairobi, Kenya. Online at https://library.wur.nl/isric/fulltext/isricu_i00006336_001.03.pdf. Scanned map available at https://esdac.jrc.ec.europa.eu/content/exploratory-soil-map-kenya-appendix-1-report-no-e1. Shapefile provided by the International Livestock Research Institute (https://www.ilri.org). We thank the Kenya Soil Survey for permission to republish this map. Digital map by J. Minai, M. Ngunjiri, and D. G. Schulze, Purdue University. Funding for this digital map provided by the Purdue Center for Global Food Security.",
 "copyrightText": "Kenya Soil Survey",
 "geoInitialExtent": {
  "ymin": -4.3103209462714833,
  "xmin": 32.014840894972757,
  "ymax": 6.917633358466623,
  "xmax": 44.781803920853342
 }
}
