{
 "documentInfo": {
  "Category": "",
  "Keywords": "Isee",
  "Version": "3.1.0",
  "Comments": "Kenya hillshade from the 1 arc second SRTM. Data were downloaded from https://earthexplorer.usgs.gov on 26 September 2015. The original DEM data were then smoothed by taking the mean over a 5 x 5 pixel window before calculating the hillshade. Funding for this digital map provided by the Purdue Center for Global Food Security.",
  "AntialiasingMode": "Fast",
  "Title": "Kenya Hillshade",
  "Author": "",
  "TextAntialiasingMode": "Force",
  "Subject": "Kenya Hillshade"
 },
 "maxImageWidth": 4096,
 "wmtsScaleFactor": 0.00028000000000003521,
 "maxRecordCount": 2000,
 "tileInfo": {
  "lods": [
   {
    "level": 0,
    "scale": 591657527.591555,
    "resolution": 156543.03392799999
   },
   {
    "level": 1,
    "scale": 295828763.79577702,
    "resolution": 78271.516963999893
   },
   {
    "level": 2,
    "scale": 147914381.89788899,
    "resolution": 39135.758482000099
   },
   {
    "level": 3,
    "scale": 73957190.948944002,
    "resolution": 19567.879240999901
   },
   {
    "level": 4,
    "scale": 36978595.474472001,
    "resolution": 9783.9396204999593
   },
   {
    "level": 5,
    "scale": 18489297.737236001,
    "resolution": 4891.9698102499797
   },
   {
    "level": 6,
    "scale": 9244648.8686180003,
    "resolution": 2445.9849051249898
   },
   {
    "level": 7,
    "scale": 4622324.4343090001,
    "resolution": 1222.9924525624899
   },
   {
    "level": 8,
    "scale": 2311162.2171550002,
    "resolution": 611.49622628138002
   },
   {
    "level": 9,
    "scale": 1155581.108577,
    "resolution": 305.74811314055802
   },
   {
    "level": 10,
    "scale": 577790.55428899999,
    "resolution": 152.874056570411
   },
   {
    "level": 11,
    "scale": 288895.27714399999,
    "resolution": 76.437028285073197
   },
   {
    "level": 12,
    "scale": 144447.638572,
    "resolution": 38.218514142536598
   },
   {
    "level": 13,
    "scale": 72223.819285999998,
    "resolution": 19.109257071268299
   },
   {
    "level": 14,
    "scale": 36111.909642999999,
    "resolution": 9.5546285356341496
   },
   {
    "level": 15,
    "scale": 18055.954822,
    "resolution": 4.7773142679493699
   },
   {
    "level": 16,
    "scale": 9027.9774109999998,
    "resolution": 2.38865713397468
   },
   {
    "level": 17,
    "scale": 4513.9887049999998,
    "resolution": 1.1943285668550501
   },
   {
    "level": 18,
    "scale": 2256.994353,
    "resolution": 0.59716428355981699
   },
   {
    "level": 19,
    "scale": 1128.4971760000001,
    "resolution": 0.29858214164761698
   }
  ],
  "origin": {
   "x": -20037508.342787001,
   "y": 20037508.342787001
  },
  "format": "MIXED",
  "compressionQuality": 75,
  "rows": 256,
  "dpi": 96,
  "spatialReference": {
   "falseM": -100000,
   "xyTolerance": 0.001,
   "mUnits": 10000,
   "zUnits": 10000,
   "latestWkid": 3857,
   "zTolerance": 0.001,
   "wkid": 102100,
   "xyUnits": 148923141.928385377,
   "mTolerance": 0.001,
   "falseX": -20037700,
   "falseY": -30241100,
   "falseZ": -100000
  },
  "cols": 256
 },
 "description": "Kenya hillshade from the 1 arc second SRTM. Data were downloaded from https://earthexplorer.usgs.gov on 26 September 2015. The original DEM data were then smoothed by taking the mean over a 5 x 5 pixel window before calculating the hillshade. Funding for this digital map provided by the Purdue Center for Global Food Security.",
 "datesInUnknownTimezone": false,
 "supportsQueryDomains": true,
 "units": "esriMeters",
 "maxSelectionCount": 2000,
 "supportedImageFormatTypes": "PNG32,PNG24,PNG,JPG,DIB,TIFF,EMF,PS,PDF,GIF,SVG,SVGZ,BMP",
 "supportsClipping": true,
 "exportTilesAllowed": false,
 "maxImageHeight": 4096,
 "tables": [],
 "hasVersionedData": false,
 "supportsDatumTransformation": true,
 "cimVersion": "3.7.0",
 "supportsQueryDataElements": true,
 "layers": [
  {
   "subLayerIds": null,
   "maxScale": 0,
   "name": "KEN_Project_Area_Outline",
   "defaultVisibility": false,
   "id": 1,
   "minScale": 0,
   "supportsDynamicLegends": true,
   "type": "Feature Layer",
   "parentLayerId": -1,
   "geometryType": "esriGeometryPolygon"
  }
 ],
 "mapName": "KEN_Hillshade",
 "minScale": 591657527.591555,
 "archivingInfo": {
  "supportsHistoricMoment": false
 },
 "spatialReference": {
  "falseM": -100000,
  "xyTolerance": 0.001,
  "mUnits": 10000,
  "zUnits": 10000,
  "latestWkid": 3857,
  "zTolerance": 0.001,
  "wkid": 102100,
  "xyUnits": 10000,
  "mTolerance": 0.001,
  "falseX": -20037700,
  "falseY": -30241100,
  "falseZ": -100000
 },
 "tileImageInfo": {
  "bandCount": 1,
  "lercError": 0,
  "format": "MIXED",
  "compressionQuality": 75
 },
 "fullExtent": {
  "ymin": -617794,
  "xmin": 3678810,
  "ymax": 655006.00000000745,
  "xmax": 4762410.0000000037,
  "spatialReference": {
   "cs": "pcs",
   "wkid": 102100
  }
 },
 "supportedExtensions": "",
 "serviceItemId": "2ec8b320f0f445b6b1cd9c9fb54c2eb5",
 "capabilities": "Map,Query,Data",
 "supportsDynamicLayers": true,
 "maxScale": 36111.909642999999,
 "singleFusedMapCache": true,
 "currentVersion": 12.1,
 "storageInfo": {
  "storageFormat": "esriMapCacheStorageModeCompactV2",
  "packetSize": 128
 },
 "resampling": false,
 "hasBranchVersionedData": false,
 "mapUnits": {
  "uwkid": 9001
 },
 "referenceScale": 0,
 "supportsSpatialFilter": true,
 "supportedQueryFormats": "JSON, geoJSON, PBF",
 "initialExtent": {
  "ymin": -876794.00000000151,
  "xmin": 3029999.3333333284,
  "ymax": 914006.00000000896,
  "xmax": 5411220.6666666754,
  "spatialReference": {
   "cs": "pcs",
   "wkid": 102100
  }
 },
 "serviceDescription": "Kenya hillshade from the 1 arc second SRTM. Data were downloaded from https://earthexplorer.usgs.gov on 26 September 2015. The original DEM data were then smoothed by taking the mean over a 5 x 5 pixel window before calculating the hillshade. Funding for this digital map provided by the Purdue Center for Global Food Security.",
 "copyrightText": "USGS",
 "supportsTimeRelation": true
}
