{
 "documentInfo": {
  "Category": "",
  "Keywords": "PERU-hub",
  "Version": "3.1.0",
  "Comments": "Hillshade base map. The hillshade is based on the SRTMGL1 v003, NASA Shuttle Radar Topography Mission Global 1 arc second digital elevation model (DEM). Data were downloaded from https://lpdaac.usgs.gov/products/srtmgl1v003/ on 1 October 2023. The data were smoothed by taking the mean over a 5 x 5 pixel window before calculating the hillshade. Map preparation by D. G. Schulze, February 2024. Funding provided by the Peruvian Extension and Research Utilization Hub (PERU-Hub) funded by USAID, https://www.usaid.gov/document/peruvian-extension-and-research-utilization-hub-peru-hub .",
  "AntialiasingMode": "Fast",
  "Title": "Hillshade Basemap - Peru",
  "Author": "",
  "TextAntialiasingMode": "Force",
  "Subject": "Hillshade basemap for Peru"
 },
 "maxImageWidth": 4096,
 "wmtsScaleFactor": 0.00028000000000003521,
 "maxRecordCount": 2000,
 "tileInfo": {
  "lods": [
   {
    "level": 0,
    "scale": 591657527.591555,
    "resolution": 156543.03392799999
   },
   {
    "level": 1,
    "scale": 295828763.79577702,
    "resolution": 78271.516963999893
   },
   {
    "level": 2,
    "scale": 147914381.89788899,
    "resolution": 39135.758482000099
   },
   {
    "level": 3,
    "scale": 73957190.948944002,
    "resolution": 19567.879240999901
   },
   {
    "level": 4,
    "scale": 36978595.474472001,
    "resolution": 9783.9396204999593
   },
   {
    "level": 5,
    "scale": 18489297.737236001,
    "resolution": 4891.9698102499797
   },
   {
    "level": 6,
    "scale": 9244648.8686180003,
    "resolution": 2445.9849051249898
   },
   {
    "level": 7,
    "scale": 4622324.4343090001,
    "resolution": 1222.9924525624899
   },
   {
    "level": 8,
    "scale": 2311162.2171550002,
    "resolution": 611.49622628138002
   },
   {
    "level": 9,
    "scale": 1155581.108577,
    "resolution": 305.74811314055802
   },
   {
    "level": 10,
    "scale": 577790.55428899999,
    "resolution": 152.874056570411
   },
   {
    "level": 11,
    "scale": 288895.27714399999,
    "resolution": 76.437028285073197
   },
   {
    "level": 12,
    "scale": 144447.638572,
    "resolution": 38.218514142536598
   },
   {
    "level": 13,
    "scale": 72223.819285999998,
    "resolution": 19.109257071268299
   },
   {
    "level": 14,
    "scale": 36111.909642999999,
    "resolution": 9.5546285356341496
   },
   {
    "level": 15,
    "scale": 18055.954822,
    "resolution": 4.7773142679493699
   },
   {
    "level": 16,
    "scale": 9027.9774109999998,
    "resolution": 2.38865713397468
   },
   {
    "level": 17,
    "scale": 4513.9887049999998,
    "resolution": 1.1943285668550501
   },
   {
    "level": 18,
    "scale": 2256.994353,
    "resolution": 0.59716428355981699
   },
   {
    "level": 19,
    "scale": 1128.4971760000001,
    "resolution": 0.29858214164761698
   },
   {
    "level": 20,
    "scale": 564.24858800000004,
    "resolution": 0.14929107082380833
   },
   {
    "level": 21,
    "scale": 282.12429400000002,
    "resolution": 0.074645535411904163
   },
   {
    "level": 22,
    "scale": 141.06214700000001,
    "resolution": 0.037322767705952081
   },
   {
    "level": 23,
    "scale": 70.531073500000005,
    "resolution": 0.018661383852976041
   }
  ],
  "origin": {
   "x": -20037508.342787001,
   "y": 20037508.342787001
  },
  "format": "Mixed",
  "compressionQuality": 75,
  "rows": 256,
  "dpi": 96,
  "spatialReference": {
   "falseM": -100000,
   "xyTolerance": 0.001,
   "mUnits": 10000,
   "zUnits": 10000,
   "latestWkid": 3857,
   "zTolerance": 0.001,
   "wkid": 102100,
   "xyUnits": 148923141.928385377,
   "mTolerance": 0.001,
   "falseX": -20037700,
   "falseY": -30241100,
   "falseZ": -100000
  },
  "cols": 256
 },
 "description": "Hillshade base map. The hillshade is based on the SRTMGL1 v003, NASA Shuttle Radar Topography Mission Global 1 arc second digital elevation model (DEM). Data were downloaded from https://lpdaac.usgs.gov/products/srtmgl1v003/ on 1 October 2023. The data were smoothed by taking the mean over a 5 x 5 pixel window before calculating the hillshade. Map preparation by D. G. Schulze, February 2024. Funding provided by the Peruvian Extension and Research Utilization Hub (PERU-Hub) funded by USAID, https://www.usaid.gov/document/peruvian-extension-and-research-utilization-hub-peru-hub .",
 "datesInUnknownTimezone": false,
 "supportsQueryDomains": true,
 "units": "esriMeters",
 "maxSelectionCount": 2000,
 "supportedImageFormatTypes": "PNG32,PNG24,PNG,JPG,DIB,TIFF,EMF,PS,PDF,GIF,SVG,SVGZ,BMP",
 "supportsClipping": true,
 "exportTilesAllowed": false,
 "maxImageHeight": 4096,
 "tables": [],
 "hasVersionedData": false,
 "supportsDatumTransformation": true,
 "cimVersion": "3.7.0",
 "supportsQueryDataElements": true,
 "layers": [
  {
   "subLayerIds": [
    1
   ],
   "maxScale": 27733948,
   "name": "Hillshade_L04",
   "defaultVisibility": true,
   "id": 0,
   "minScale": 55467893,
   "supportsDynamicLegends": false,
   "type": "Group Layer",
   "parentLayerId": -1
  },
  {
   "subLayerIds": null,
   "maxScale": 0,
   "name": "Hillshade_SRTMGL1v003_WM_SM5_L04",
   "defaultVisibility": true,
   "id": 1,
   "minScale": 0,
   "supportsDynamicLegends": true,
   "type": "Raster Layer",
   "parentLayerId": 0
  },
  {
   "subLayerIds": [
    3
   ],
   "maxScale": 13866975,
   "name": "Hillshade_L05",
   "defaultVisibility": true,
   "id": 2,
   "minScale": 27733947,
   "supportsDynamicLegends": false,
   "type": "Group Layer",
   "parentLayerId": -1
  },
  {
   "subLayerIds": null,
   "maxScale": 0,
   "name": "Hillshade_SRTMGL1v003_WM_SM5_L05",
   "defaultVisibility": true,
   "id": 3,
   "minScale": 0,
   "supportsDynamicLegends": true,
   "type": "Raster Layer",
   "parentLayerId": 2
  },
  {
   "subLayerIds": [
    5
   ],
   "maxScale": 6933488,
   "name": "Hillshade_L06",
   "defaultVisibility": true,
   "id": 4,
   "minScale": 13866974,
   "supportsDynamicLegends": false,
   "type": "Group Layer",
   "parentLayerId": -1
  },
  {
   "subLayerIds": null,
   "maxScale": 0,
   "name": "Hillshade_SRTMGL1v003_WM_SM5_L06",
   "defaultVisibility": true,
   "id": 5,
   "minScale": 0,
   "supportsDynamicLegends": true,
   "type": "Raster Layer",
   "parentLayerId": 4
  },
  {
   "subLayerIds": [
    7
   ],
   "maxScale": 3466744,
   "name": "Hillshade_L07",
   "defaultVisibility": true,
   "id": 6,
   "minScale": 6933487,
   "supportsDynamicLegends": false,
   "type": "Group Layer",
   "parentLayerId": -1
  },
  {
   "subLayerIds": null,
   "maxScale": 0,
   "name": "Hillshade_SRTMGL1v003_WM_SM5_L07",
   "defaultVisibility": true,
   "id": 7,
   "minScale": 0,
   "supportsDynamicLegends": true,
   "type": "Raster Layer",
   "parentLayerId": 6
  },
  {
   "subLayerIds": [
    9
   ],
   "maxScale": 1733373,
   "name": "Hillshade_L08",
   "defaultVisibility": true,
   "id": 8,
   "minScale": 3466743,
   "supportsDynamicLegends": false,
   "type": "Group Layer",
   "parentLayerId": -1
  },
  {
   "subLayerIds": null,
   "maxScale": 0,
   "name": "Hillshade_SRTMGL1v003_WM_SM5_L08",
   "defaultVisibility": true,
   "id": 9,
   "minScale": 0,
   "supportsDynamicLegends": true,
   "type": "Raster Layer",
   "parentLayerId": 8
  },
  {
   "subLayerIds": [
    11
   ],
   "maxScale": 866687,
   "name": "Hillshade_L09",
   "defaultVisibility": true,
   "id": 10,
   "minScale": 1733372,
   "supportsDynamicLegends": false,
   "type": "Group Layer",
   "parentLayerId": -1
  },
  {
   "subLayerIds": null,
   "maxScale": 0,
   "name": "Hillshade_SRTMGL1v003_WM_SM5_L09",
   "defaultVisibility": true,
   "id": 11,
   "minScale": 0,
   "supportsDynamicLegends": true,
   "type": "Raster Layer",
   "parentLayerId": 10
  },
  {
   "subLayerIds": [
    13
   ],
   "maxScale": 433344,
   "name": "Hillshade_L10",
   "defaultVisibility": true,
   "id": 12,
   "minScale": 866686,
   "supportsDynamicLegends": false,
   "type": "Group Layer",
   "parentLayerId": -1
  },
  {
   "subLayerIds": null,
   "maxScale": 0,
   "name": "Hillshade_SRTMGL1v003_WM_SM5_L10",
   "defaultVisibility": true,
   "id": 13,
   "minScale": 0,
   "supportsDynamicLegends": true,
   "type": "Raster Layer",
   "parentLayerId": 12
  },
  {
   "subLayerIds": [
    15
   ],
   "maxScale": 216673,
   "name": "Hillshade_L11",
   "defaultVisibility": true,
   "id": 14,
   "minScale": 433343,
   "supportsDynamicLegends": false,
   "type": "Group Layer",
   "parentLayerId": -1
  },
  {
   "subLayerIds": null,
   "maxScale": 0,
   "name": "Hillshade_SRTMGL1v003_WM_SM5_L11",
   "defaultVisibility": true,
   "id": 15,
   "minScale": 0,
   "supportsDynamicLegends": true,
   "type": "Raster Layer",
   "parentLayerId": 14
  },
  {
   "subLayerIds": [
    17
   ],
   "maxScale": 108337,
   "name": "Hillshade_L12",
   "defaultVisibility": true,
   "id": 16,
   "minScale": 216672,
   "supportsDynamicLegends": false,
   "type": "Group Layer",
   "parentLayerId": -1
  },
  {
   "subLayerIds": null,
   "maxScale": 0,
   "name": "Hillshade_SRTMGL1v003_WM_SM5_L12",
   "defaultVisibility": true,
   "id": 17,
   "minScale": 0,
   "supportsDynamicLegends": true,
   "type": "Raster Layer",
   "parentLayerId": 16
  },
  {
   "subLayerIds": [
    19
   ],
   "maxScale": 54169,
   "name": "Hillshade_L13",
   "defaultVisibility": true,
   "id": 18,
   "minScale": 108336,
   "supportsDynamicLegends": false,
   "type": "Group Layer",
   "parentLayerId": -1
  },
  {
   "subLayerIds": null,
   "maxScale": 0,
   "name": "Hillshade_SRTMGL1v003_WM_SM5_L13",
   "defaultVisibility": true,
   "id": 19,
   "minScale": 0,
   "supportsDynamicLegends": true,
   "type": "Raster Layer",
   "parentLayerId": 18
  },
  {
   "subLayerIds": [
    21
   ],
   "maxScale": 27085,
   "name": "Hillshade_L14",
   "defaultVisibility": true,
   "id": 20,
   "minScale": 54168,
   "supportsDynamicLegends": false,
   "type": "Group Layer",
   "parentLayerId": -1
  },
  {
   "subLayerIds": null,
   "maxScale": 0,
   "name": "Hillshade_SRTMGL1v003_WM_SM5_L14",
   "defaultVisibility": true,
   "id": 21,
   "minScale": 0,
   "supportsDynamicLegends": true,
   "type": "Raster Layer",
   "parentLayerId": 20
  },
  {
   "subLayerIds": [
    23
   ],
   "maxScale": 13543,
   "name": "Hillshade_L15",
   "defaultVisibility": true,
   "id": 22,
   "minScale": 27084,
   "supportsDynamicLegends": false,
   "type": "Group Layer",
   "parentLayerId": -1
  },
  {
   "subLayerIds": null,
   "maxScale": 0,
   "name": "Hillshade_SRTMGL1v003_WM_SM5_L15",
   "defaultVisibility": true,
   "id": 23,
   "minScale": 0,
   "supportsDynamicLegends": true,
   "type": "Raster Layer",
   "parentLayerId": 22
  }
 ],
 "mapName": "PER_Hillshade",
 "minScale": 591657527.591555,
 "archivingInfo": {
  "supportsHistoricMoment": false
 },
 "spatialReference": {
  "falseM": -100000,
  "xyTolerance": 0.001,
  "mUnits": 10000,
  "zUnits": 10000,
  "latestWkid": 3857,
  "zTolerance": 0.001,
  "wkid": 102100,
  "xyUnits": 10000,
  "mTolerance": 0.001,
  "falseX": -20037700,
  "falseY": -30241100,
  "falseZ": -100000
 },
 "tileImageInfo": {
  "bandCount": 1,
  "lercError": 0,
  "format": "Mixed",
  "compressionQuality": 75
 },
 "fullExtent": {
  "ymin": -2197314.4909430784,
  "xmin": -9172586.892009588,
  "ymax": 268659.60677610943,
  "xmax": -7511761.9335341705,
  "spatialReference": {
   "cs": "pcs",
   "wkid": 102100
  }
 },
 "supportedExtensions": "",
 "serviceItemId": "0885b7c1a107497781c07f14fae97f0f",
 "capabilities": "Map,Query,Data",
 "supportsDynamicLayers": true,
 "maxScale": 36111.909642999999,
 "singleFusedMapCache": true,
 "currentVersion": 12.1,
 "storageInfo": {
  "storageFormat": "esriMapCacheStorageModeCompactV2",
  "packetSize": 128
 },
 "resampling": false,
 "hasBranchVersionedData": false,
 "mapUnits": {
  "uwkid": 9001
 },
 "referenceScale": 0,
 "supportsSpatialFilter": true,
 "maxLOD": 14,
 "minLOD": 0,
 "supportedQueryFormats": "JSON, geoJSON, PBF",
 "initialExtent": {
  "ymin": -2320613.195829038,
  "xmin": -10033832.643807242,
  "ymax": 391958.31166206906,
  "xmax": -6650516.1817365158,
  "spatialReference": {
   "cs": "pcs",
   "wkid": 102100
  }
 },
 "serviceDescription": " Hillshade base map. The hillshade is based on the SRTMGL1 v003, NASA Shuttle Radar Topography Mission Global 1 arc second digital elevation model (DEM). Data were downloaded from https://lpdaac.usgs.gov/products/srtmgl1v003/ on 1 October 2023. The data were smoothed by taking the mean over a 5 x 5 pixel window before calculating the hillshade. Map preparation by D. G. Schulze, February 2024. Funding provided by the Peruvian Extension and Research Utilization Hub (PERU-Hub) funded by USAID, https://www.usaid.gov/document/peruvian-extension-and-research-utilization-hub-peru-hub .<\/SPAN><\/P><\/DIV>",
 "copyrightText": "USGS, Purdue Univ.",
 "supportsTimeRelation": true
}
