{
 "documentInfo": {
  "Category": "",
  "Keywords": "Isee,Soil Temperature Regimes",
  "Version": "3.7.0",
  "Comments": "Soil Temperature Regimes.\nThe Soil Temperatures Regimes map was created by using a soil water balance model to estimate soil temperature regimes as well and is based on data from more than 20,000 climatic stations world wide. Data source: This map was originally produced by the USDA Natural Resources Conservation Service in April 1997 and is available online at http://www.nrcs.usda.gov/wps/portal/nrcs/detail/soils/use/maps/?cid=nrcs142p2_054019. Accessed 25 January 2015. The spatial data were downloaded on 25 January 2015 from ftp://ftp-fc.sc.egov.usda.gov/NHQ/pub/outgoing/soils/global_soil_temperature_map_shp.zip . Thanks to Paul Reich for providing the spatial data.",
  "AntialiasingMode": "Fast",
  "Title": "Soil Temperature Regimes",
  "Author": "",
  "TextAntialiasingMode": "Force",
  "Subject": "Soil temperature regimes."
 },
 "maxImageWidth": 4096,
 "wmtsScaleFactor": 0.00028000000000003521,
 "maxRecordCount": 2000,
 "tileInfo": {
  "lods": [
   {
    "level": 0,
    "scale": 591657527.591555,
    "resolution": 156543.03392799999
   },
   {
    "level": 1,
    "scale": 295828763.79577702,
    "resolution": 78271.516963999893
   },
   {
    "level": 2,
    "scale": 147914381.89788899,
    "resolution": 39135.758482000099
   },
   {
    "level": 3,
    "scale": 73957190.948944002,
    "resolution": 19567.879240999901
   },
   {
    "level": 4,
    "scale": 36978595.474472001,
    "resolution": 9783.9396204999593
   },
   {
    "level": 5,
    "scale": 18489297.737236001,
    "resolution": 4891.9698102499797
   },
   {
    "level": 6,
    "scale": 9244648.8686180003,
    "resolution": 2445.9849051249898
   },
   {
    "level": 7,
    "scale": 4622324.4343090001,
    "resolution": 1222.9924525624899
   },
   {
    "level": 8,
    "scale": 2311162.2171550002,
    "resolution": 611.49622628138002
   },
   {
    "level": 9,
    "scale": 1155581.108577,
    "resolution": 305.74811314055802
   },
   {
    "level": 10,
    "scale": 577790.55428899999,
    "resolution": 152.874056570411
   },
   {
    "level": 11,
    "scale": 288895.27714399999,
    "resolution": 76.437028285073197
   },
   {
    "level": 12,
    "scale": 144447.638572,
    "resolution": 38.218514142536598
   },
   {
    "level": 13,
    "scale": 72223.819285999998,
    "resolution": 19.109257071268299
   },
   {
    "level": 14,
    "scale": 36111.909642999999,
    "resolution": 9.5546285356341496
   },
   {
    "level": 15,
    "scale": 18055.954822,
    "resolution": 4.7773142679493699
   },
   {
    "level": 16,
    "scale": 9027.9774109999998,
    "resolution": 2.38865713397468
   },
   {
    "level": 17,
    "scale": 4513.9887049999998,
    "resolution": 1.1943285668550501
   },
   {
    "level": 18,
    "scale": 2256.994353,
    "resolution": 0.59716428355981699
   },
   {
    "level": 19,
    "scale": 1128.4971760000001,
    "resolution": 0.29858214164761698
   }
  ],
  "origin": {
   "x": -20037508.342787001,
   "y": 20037508.342787001
  },
  "format": "PNG",
  "compressionQuality": 0,
  "rows": 256,
  "dpi": 96,
  "spatialReference": {
   "falseM": -100000,
   "xyTolerance": 0.001,
   "mUnits": 10000,
   "zUnits": 10000,
   "latestWkid": 3857,
   "zTolerance": 0.001,
   "wkid": 102100,
   "xyUnits": 148923141.928385377,
   "mTolerance": 0.001,
   "falseX": -20037700,
   "falseY": -30241100,
   "falseZ": -100000
  },
  "cols": 256
 },
 "description": "Soil Temperature Regimes.\nThe Soil Temperatures Regimes map was created by using a soil water balance model to estimate soil temperature regimes as well and is based on data from more than 20,000 climatic stations world wide. Data source: This map was originally produced by the USDA Natural Resources Conservation Service in April 1997 and is available online at http://www.nrcs.usda.gov/wps/portal/nrcs/detail/soils/use/maps/?cid=nrcs142p2_054019. Accessed 25 January 2015. The spatial data were downloaded on 25 January 2015 from ftp://ftp-fc.sc.egov.usda.gov/NHQ/pub/outgoing/soils/global_soil_temperature_map_shp.zip . Thanks to Paul Reich for providing the spatial data.",
 "datesInUnknownTimezone": false,
 "supportsQueryDomains": true,
 "units": "esriMeters",
 "maxSelectionCount": 2000,
 "supportedImageFormatTypes": "PNG32,PNG24,PNG,JPG,DIB,TIFF,EMF,PS,PDF,GIF,SVG,SVGZ,BMP",
 "supportsClipping": true,
 "exportTilesAllowed": false,
 "maxImageHeight": 4096,
 "tables": [],
 "hasVersionedData": false,
 "supportsDatumTransformation": true,
 "cimVersion": "3.7.0",
 "supportsQueryDataElements": true,
 "layers": [
  {
   "subLayerIds": null,
   "maxScale": 0,
   "name": "Soil Temperature Regimes",
   "defaultVisibility": true,
   "id": 0,
   "minScale": 0,
   "supportsDynamicLegends": true,
   "type": "Raster Layer",
   "parentLayerId": -1
  }
 ],
 "mapName": "WLD_Soil_Temperature_Regimes",
 "minScale": 295828763.79577702,
 "archivingInfo": {
  "supportsHistoricMoment": false
 },
 "spatialReference": {
  "falseM": -100000,
  "xyTolerance": 0.001,
  "mUnits": 10000,
  "zUnits": 10000,
  "latestWkid": 3857,
  "zTolerance": 0.001,
  "wkid": 102100,
  "xyUnits": 10000,
  "mTolerance": 0.001,
  "falseX": -20037700,
  "falseY": -30241100,
  "falseZ": -100000
 },
 "tileImageInfo": {
  "bandCount": 1,
  "lercError": 0,
  "format": "PNG",
  "compressionQuality": 0
 },
 "fullExtent": {
  "ymin": -14927396.252,
  "xmin": -20037471.2366,
  "ymax": 18807627.557759997,
  "xmax": 20037545.446919996,
  "spatialReference": {
   "cs": "pcs",
   "wkid": 102100
  }
 },
 "supportedExtensions": "",
 "serviceItemId": "a478e19fe4a945efaf4004b832b73385",
 "capabilities": "Map,Query,Data",
 "supportsDynamicLayers": true,
 "maxScale": 9244648.8686180003,
 "singleFusedMapCache": true,
 "currentVersion": 12.1,
 "storageInfo": {
  "storageFormat": "esriMapCacheStorageModeCompact",
  "packetSize": 128
 },
 "hasBranchVersionedData": false,
 "mapUnits": {
  "uwkid": 9001
 },
 "referenceScale": 0,
 "supportsSpatialFilter": true,
 "supportedQueryFormats": "JSON, geoJSON, PBF",
 "initialExtent": {
  "ymin": -27586382.350947656,
  "xmin": -35075948.404643379,
  "ymax": 35977591.974979691,
  "xmax": 37066160.108318694,
  "spatialReference": {
   "cs": "pcs",
   "wkid": 102100
  }
 },
 "serviceDescription": "Soil Temperature Regimes.\nThe Soil Temperatures Regimes map was created by using a soil water balance model to estimate soil temperature regimes as well and is based on data from more than 20,000 climatic stations world wide. Data source: This map was originally produced by the USDA Natural Resources Conservation Service in April 1997 and is available online at http://www.nrcs.usda.gov/wps/portal/nrcs/detail/soils/use/maps/?cid=nrcs142p2_054019. Accessed 25 January 2015. The spatial data were downloaded on 25 January 2015 from ftp://ftp-fc.sc.egov.usda.gov/NHQ/pub/outgoing/soils/global_soil_temperature_map_shp.zip . Thanks to Paul Reich for providing the spatial data.",
 "copyrightText": "USDA",
 "supportsTimeRelation": true
}
