{
 "extent": {
  "ymin": 3202002.781868163,
  "xmin": 400965,
  "ymax": 3409362.781868163,
  "xmax": 946245,
  "spatialReference": {
   "latestWkid": 26915,
   "wkid": 26915
  }
 },
 "blockWidth": 128,
 "mosaicOperator": "First",
 "serviceSourceType": "esriImageServiceSourceTypeDataset",
 "hasMultidimensions": false,
 "maxImageWidth": 15000,
 "meanValues": [
  0.59343188619707543
 ],
 "hasColormap": false,
 "compressionType": "NONE",
 "defaultCompressionQuality": 75,
 "maxValues": [
  50.273998260498047
 ],
 "hasHistograms": true,
 "datasetFormat": "SDR",
 "maxImageHeight": 4100,
 "sortField": "",
 "bandNames": [
  "Band_1"
 ],
 "spatialReference": {
  "latestWkid": 26915,
  "wkid": 26915
 },
 "fullExtent": {
  "ymin": 3202002.781868163,
  "xmin": 400965,
  "ymax": 3409362.781868163,
  "xmax": 946245,
  "spatialReference": {
   "latestWkid": 26915,
   "wkid": 26915
  }
 },
 "bandCount": 1,
 "rasterFunctionInfos": [
  {
   "help": "",
   "name": "None",
   "description": ""
  }
 ],
 "supportsStatistics": false,
 "sortableFields": "",
 "minValues": [
  -343.04971313476562
 ],
 "allowRasterFunction": true,
 "allowComputeTiePoints": false,
 "serviceDataType": "esriImageServiceDataTypeGeneric",
 "supportsAdvancedQueries": false,
 "currentVersion": 12.1,
 "sortValue": null,
 "objectIdField": "",
 "blockHeight": 128,
 "initialExtent": {
  "ymin": 3202002.781868163,
  "xmin": 400965,
  "ymax": 3409362.781868163,
  "xmax": 946245,
  "spatialReference": {
   "latestWkid": 26915,
   "wkid": 26915
  }
 },
 "pixelSizeX": 30,
 "pixelSizeY": 30,
 "defaultMosaicMethod": "Center",
 "name": "MellonFloodRisk/floodrisk_Initial_TOPO",
 "allowedMosaicMethods": "",
 "fields": [],
 "allowAnalysis": true,
 "hasRasterAttributeTable": false,
 "useStandardizedQueries": false,
 "description": "",
 "pixelType": "F32",
 "meanPixelSize": 30,
 "exportTilesAllowed": false,
 "editFieldsInfo": null,
 "rasterTypeInfos": [
  {
   "help": "",
   "name": "Raster Dataset",
   "description": "Supports all ArcGIS Raster Datasets"
  }
 ],
 "defaultResamplingMethod": "Bilinear",
 "itemAccess": false,
 "minScale": 0,
 "serviceProperties": "Center<\/MosaicMethod>First<\/MosaicOperator>true<\/SortAscending><\/LockImageID><\/TileOrderField>0<\/TileOrderBase>0.000000<\/AvgImageSpacingX>0.000000<\/AvgImageSpacingY>0.0<\/ViewPointX>0.0<\/ViewPointY>0.0<\/ViewPointDefShiftX>0.0<\/ViewPointDefShiftY>None<\/CompressionMethod>75<\/CompressionQuality>0.010000<\/CompressionTolerance>Bilinear<\/SamplingMethod><\/ImageServiceProperties><\/ImageServer>",
 "advancedQueryCapabilities": {
  "supportsStatistics": false,
  "supportsSqlExpression": false,
  "supportsOrderBy": false,
  "useStandardizedQueries": false,
  "supportsPagination": false,
  "supportsDistinct": false
 },
 "serviceItemId": "bea0a57077ed4ff2919ca4dfe90a2c0d",
 "capabilities": "Image,Metadata,Mensuration",
 "maxScale": 0,
 "stdvValues": [
  2.791901583424758
 ],
 "allowedFields": "",
 "minPixelSize": 0,
 "sortAscending": true,
 "inspectionCapabilities": "",
 "maxPixelSize": 0,
 "allowedCompressions": "None,JPEG,LZ77,LERC",
 "uncompressedSize": 502530048,
 "serviceDescription": "MellonFloodRisk/floodrisk_Initial_TOPO",
 "allowCopy": true,
 "copyrightText": "",
 "mensurationCapabilities": "Basic",
 "ownershipBasedAccessControlForRasters": null
}
