View In:
ArcGIS JavaScript
ArcGIS Online Map Viewer
ArcGIS Earth
ArcGIS Pro
Service Description: Data for the roads, railroads, and places are © OpenStreetMap contributors and are available under the Open Data Commons Open Database License (http://www.openstreetmap.org/copyright). Data are current as of 7 June 2017 and were obtained from Geofabrik (http://geofabrik.de/). Data for US State and County Boundaries are the 2016 TIGER/Line Shapefiles and were downloaded from the United States Census at https://www.census.gov/ on 13 June 2017.
Map Name: USA_Boundaries_Roads_Places
Legend
All Layers and Tables
Dynamic Legend
Dynamic All Layers
Layers:
Description: Data for the roads, railroads, and places are © OpenStreetMap contributors and are available under the Open Data Commons Open Database License (http://www.openstreetmap.org/copyright). Data are current as of 7 June 2017 and were obtained from Geofabrik (http://geofabrik.de/). Data for US State and County Boundaries are the 2016 TIGER/Line Shapefiles and were downloaded from the United States Census at https://www.census.gov/ on 13 June 2017.
Service Item Id: b3ddc2166fea484fb2d840465ed12348
Copyright Text: © Open Street Map; US Census
Spatial Reference:
102100
(3857)
Single Fused Map Cache: true
Tile Info:
- Height: 256.0
- Width: 256.0
- DPI: 96.0
-
Levels of Detail: 20
-
Level ID: 0
[ Start Tile, End Tile ]
- Resolution: 156543.03392799999
- Scale: 591657527.591555
-
Level ID: 1
[ Start Tile, End Tile ]
- Resolution: 78271.516963999893
- Scale: 295828763.79577702
-
Level ID: 2
[ Start Tile, End Tile ]
- Resolution: 39135.758482000099
- Scale: 147914381.89788899
-
Level ID: 3
[ Start Tile, End Tile ]
- Resolution: 19567.879240999901
- Scale: 73957190.948944002
-
Level ID: 4
[ Start Tile, End Tile ]
- Resolution: 9783.9396204999593
- Scale: 36978595.474472001
-
Level ID: 5
[ Start Tile, End Tile ]
- Resolution: 4891.9698102499797
- Scale: 18489297.737236001
-
Level ID: 6
[ Start Tile, End Tile ]
- Resolution: 2445.9849051249898
- Scale: 9244648.8686180003
-
Level ID: 7
[ Start Tile, End Tile ]
- Resolution: 1222.9924525624899
- Scale: 4622324.4343090001
-
Level ID: 8
[ Start Tile, End Tile ]
- Resolution: 611.49622628138002
- Scale: 2311162.2171550002
-
Level ID: 10
[ Start Tile, End Tile ]
- Resolution: 152.874056570411
- Scale: 577790.55428899999
-
Level ID: 11
[ Start Tile, End Tile ]
- Resolution: 76.437028285073197
- Scale: 288895.27714399999
-
Level ID: 13
[ Start Tile, End Tile ]
- Resolution: 19.109257071268299
- Scale: 72223.819285999998
-
Level ID: 14
[ Start Tile, End Tile ]
- Resolution: 9.5546285356341496
- Scale: 36111.909642999999
-
Level ID: 16
[ Start Tile, End Tile ]
- Resolution: 2.38865713397468
- Scale: 9027.9774109999998
-
Level ID: 17
[ Start Tile, End Tile ]
- Resolution: 1.1943285668550501
- Scale: 4513.9887049999998
-
Level ID: 19
[ Start Tile, End Tile ]
- Resolution: 0.29858214164761698
- Scale: 1128.4971760000001
- Format: PNG32
- Compression Quality: 0.0
- Origin: X: -2.0037508342787E7
Y: 2.0037508342787E7
- Spatial Reference: 102100
(3857)
Storage Info:
- Storage Format: esriMapCacheStorageModeCompactV2
- Packet Size: 128
Initial Extent:
XMin: -5.287655972886398E7
YMin: -2.293919193132049E7
XMax: 5.294653120646397E7
YMax: 5.664517454237646E7
Spatial Reference: 102100
Full Extent:
XMin: -1.99519149256E7
YMin: -1643352.0163999982
XMax: 2.00218864032E7
YMax: 1.1554793470399998E7
Spatial Reference: 102100
Units: esriMeters
Supported Image Format Types: PNG32,PNG24,PNG,JPG,DIB,TIFF,EMF,PS,PDF,GIF,SVG,SVGZ,BMP
Document Info:
Title: Boundaries, Roads, and Places
Author:
Comments: Data for the roads, railroads, and places are © OpenStreetMap contributors and are available under the Open Data Commons Open Database License (http://www.openstreetmap.org/copyright). Data are current as of 7 June 2017 and were obtained from Geofabrik (http://geofabrik.de/). Data for US State and County Boundaries are the 2016 TIGER/Line Shapefiles and were downloaded from the United States Census at https://www.census.gov/ on 13 June 2017.
Subject: Country, state, and county boundaries, and roads, railroads, and populated places for the Isee project.
Category:
Keywords: Isee
AntialiasingMode: Fast
TextAntialiasingMode: Force
Supports Dynamic Layers: true
Resampling: false
MaxRecordCount: 2000
MaxSelectionCount: 2000
MaxImageHeight: 4096
MaxImageWidth: 4096
Supported Query Formats: JSON, geoJSON, PBF
Supports Query Data Elements: true
Min Scale: 591657527.591555
Max Scale: 18055.954822
Supports Datum Transformation: true
Child Resources:
Info
Dynamic Layer
Supported Operations:
Export Map
Identify
QueryLegends
QueryDomains
Find
Return Updates