View In:
ArcGIS JavaScript
ArcGIS Online Map Viewer
ArcGIS Earth
Service Description: LiberalArt/Artsakh_Suitability_Regions
Name: LiberalArt/Artsakh_Suitability_Regions
Description:
Single Fused Map Cache: false
Extent:
XMin: 574184.4082
YMin: 4303871.2792
XMax: 699284.4082
YMax: 4476671.2792
Spatial Reference: 32638
(32638)
Initial Extent:
XMin: 574184.4082
YMin: 4303871.2792
XMax: 699284.4082
YMax: 4476671.2792
Spatial Reference: 32638
(32638)
Full Extent:
XMin: 574184.4082
YMin: 4303871.2792
XMax: 699284.4082
YMax: 4476671.2792
Spatial Reference: 32638
(32638)
Pixel Size X: 60.0
Pixel Size Y: 60.0
Band Count: 1
Pixel Type: S32
RasterFunction Infos: {"rasterFunctionInfos": [{
"help": "",
"name": "None",
"description": ""
}]}
Mensuration Capabilities: Basic
Inspection Capabilities:
Has Histograms: true
Has Colormap: false
Has Multi Dimensions : false
Rendering Rule:
Min Scale: 0
Max Scale: 0
Copyright Text:
Service Data Type: esriImageServiceDataTypeGeneric
Min Values: 0
Max Values: 10
Mean Values: 1.2866508548361222
Standard Deviation Values: 2.7122861058138326
Object ID Field:
Fields:
None
Default Mosaic Method: Center
Allowed Mosaic Methods:
SortField:
SortValue: N/A
Mosaic Operator: First
Default Compression Quality: 75
Default Resampling Method: Bilinear
Max Record Count: null
Max Image Height: 4100
Max Image Width: 15000
Max Download Image Count: null
Max Mosaic Image Count: null
Allow Raster Function: true
Allow Copy: true
Allow Analysis: true
Allow Compute TiePoints: false
Supports Statistics: false
Supports Advanced Queries: false
Use StandardizedQueries: false
Raster Type Infos:
Name: Raster Dataset
Description: Supports all ArcGIS Raster Datasets
Help:
Has Raster Attribute Table: true
Edit Fields Info: N/A
Ownership Based AccessControl For Rasters: N/A
Child Resources:
Info
Raster Attribute Table
Histograms
Statistics
Key Properties
Legend
Raster Function Infos
Supported Operations:
Export Image
Identify
Measure
Compute Histograms
Compute Statistics Histograms
Get Samples
Compute Class Statistics
Query Boundary
Compute Pixel Location
Compute Angles
Validate
Project