View In:
ArcGIS JavaScript
ArcGIS Online Map Viewer
ArcGIS Earth
Service Description: LiberalArt/EmpericalBayKrig_As_32123
Name: LiberalArt/EmpericalBayKrig_As_32123
Description:
Single Fused Map Cache: false
Extent:
XMin: 43.75847114340004
YMin: 33.32418054340004
XMax: 43.835318728200036
YMax: 33.37358256220004
Spatial Reference: 4326
(4326)
Initial Extent:
XMin: 43.75847114340004
YMin: 33.32418054340004
XMax: 43.835318728200036
YMax: 33.37358256220004
Spatial Reference: 4326
(4326)
Full Extent:
XMin: 43.75847114340004
YMin: 33.32418054340004
XMax: 43.835318728200036
YMax: 33.37358256220004
Spatial Reference: 4326
(4326)
Pixel Size X: 0.005489113199999959
Pixel Size Y: 0.005489113200000241
Band Count: 1
Pixel Type: F32
RasterFunction Infos: {"rasterFunctionInfos": [{
"help": "",
"name": "None",
"description": ""
}]}
Mensuration Capabilities: Basic
Inspection Capabilities:
Has Histograms: true
Has Colormap: false
Has Multi Dimensions : false
Rendering Rule:
Min Scale: 0
Max Scale: 0
Copyright Text:
Service Data Type: esriImageServiceDataTypeGeneric
Min Values: 5.0998940467834473
Max Values: 6.8710823059082031
Mean Values: 5.8998552958170576
Standard Deviation Values: 0.38447780188961211
Object ID Field:
Fields:
None
Default Mosaic Method: Center
Allowed Mosaic Methods:
SortField:
SortValue: N/A
Mosaic Operator: First
Default Compression Quality: 75
Default Resampling Method: Bilinear
Max Record Count: null
Max Image Height: 4100
Max Image Width: 15000
Max Download Image Count: null
Max Mosaic Image Count: null
Allow Raster Function: true
Allow Copy: true
Allow Analysis: true
Allow Compute TiePoints: false
Supports Statistics: false
Supports Advanced Queries: false
Use StandardizedQueries: false
Raster Type Infos:
Name: Raster Dataset
Description: Supports all ArcGIS Raster Datasets
Help:
Has Raster Attribute Table: false
Edit Fields Info: N/A
Ownership Based AccessControl For Rasters: N/A
Child Resources:
Info
Histograms
Statistics
Key Properties
Legend
Raster Function Infos
Supported Operations:
Export Image
Identify
Measure
Compute Histograms
Compute Statistics Histograms
Get Samples
Compute Class Statistics
Query Boundary
Compute Pixel Location
Compute Angles
Validate
Project