View In:
ArcGIS JavaScript
ArcGIS Online Map Viewer
ArcGIS Earth
ArcGIS Pro
Service Description: Calicatas/Pedons Map. The soil and site information accessible from this map is taken from the report titled, Elaboración del Estudio de Suelos Y la Clasificación de Tierras por su Capacidad de Uso Mayor en la Región Arequipa (Proyecto Desarrollo de Capacidades en Zonificación Ecológica Económica para el Ordenamiento Territorial en la Región Arequipa, Autoridad Regional Ambiental de Arequipa, Gobierno Regional Arequipa, Arequipa, Perú, 2016), and is used with the permission of the Regional Government of Arequipa. The base map was produced from the European Space Agency's Sentinel-2 satellite images for 2018. The images were cloud-filtered, mosaiced by date, and then the median value of each pixel was computed and returned for the red, green, and blue spectral bands using Google Earth Engine.
Map Name: PER_ARE_Pedons
Legend
All Layers and Tables
Dynamic Legend
Dynamic All Layers
Layers:
Description: Calicatas/Pedons Map. The soil and site information accessible from this map is taken from the report titled, Elaboración del Estudio de Suelos Y la Clasificación de Tierras por su Capacidad de Uso Mayor en la Región Arequipa (Proyecto Desarrollo de Capacidades en Zonificación Ecológica Económica para el Ordenamiento Territorial en la Región Arequipa, Autoridad Regional Ambiental de Arequipa, Gobierno Regional Arequipa, Arequipa, Perú, 2016), and is used with the permission of the Regional Government of Arequipa. The base map was produced from the European Space Agency's Sentinel-2 satellite images for 2018. The images were cloud-filtered, mosaiced by date, and then the median value of each pixel was computed and returned for the red, green, and blue spectral bands using Google Earth Engine.
Service Item Id: 66b8f703b59840db97e56643409f704a
Copyright Text: UNSA, Purdue
Spatial Reference:
102100
(3857)
Single Fused Map Cache: true
Tile Info:
- Height: 256.0
- Width: 256.0
- DPI: 96.0
-
Levels of Detail: 24
-
Level ID: 0
[ Start Tile, End Tile ]
- Resolution: 156543.03392800014
- Scale: 591657527.591555
-
Level ID: 1
[ Start Tile, End Tile ]
- Resolution: 78271.516963999937
- Scale: 295828763.79577702
-
Level ID: 2
[ Start Tile, End Tile ]
- Resolution: 39135.758482000092
- Scale: 147914381.89788899
-
Level ID: 3
[ Start Tile, End Tile ]
- Resolution: 19567.879240999919
- Scale: 73957190.948944002
-
Level ID: 4
[ Start Tile, End Tile ]
- Resolution: 9783.9396204999593
- Scale: 36978595.474472001
-
Level ID: 5
[ Start Tile, End Tile ]
- Resolution: 4891.9698102499797
- Scale: 18489297.737236001
-
Level ID: 6
[ Start Tile, End Tile ]
- Resolution: 2445.9849051249898
- Scale: 9244648.8686180003
-
Level ID: 7
[ Start Tile, End Tile ]
- Resolution: 1222.9924525624949
- Scale: 4622324.4343090001
-
Level ID: 8
[ Start Tile, End Tile ]
- Resolution: 611.49622628137968
- Scale: 2311162.2171550002
-
Level ID: 10
[ Start Tile, End Tile ]
- Resolution: 152.87405657041106
- Scale: 577790.55428899999
-
Level ID: 11
[ Start Tile, End Tile ]
- Resolution: 76.437028285073239
- Scale: 288895.27714399999
-
Level ID: 13
[ Start Tile, End Tile ]
- Resolution: 19.10925707126831
- Scale: 72223.819285999998
-
Level ID: 14
[ Start Tile, End Tile ]
- Resolution: 9.5546285356341549
- Scale: 36111.909642999999
-
Level ID: 16
[ Start Tile, End Tile ]
- Resolution: 2.3886571339746849
- Scale: 9027.9774109999998
-
Level ID: 17
[ Start Tile, End Tile ]
- Resolution: 1.1943285668550503
- Scale: 4513.9887049999998
-
Level ID: 19
[ Start Tile, End Tile ]
- Resolution: 0.29858214164761665
- Scale: 1128.4971760000001
-
Level ID: 20
[ Start Tile, End Tile ]
- Resolution: 0.14929107082380833
- Scale: 564.24858800000004
-
Level ID: 21
[ Start Tile, End Tile ]
- Resolution: 0.074645535411904163
- Scale: 282.12429400000002
-
Level ID: 22
[ Start Tile, End Tile ]
- Resolution: 0.037322767705952081
- Scale: 141.06214700000001
-
Level ID: 23
[ Start Tile, End Tile ]
- Resolution: 0.018661383852976041
- Scale: 70.531073500000005
- Format: MIXED
- Compression Quality: 75.0
- Origin: X: -2.0037508342787E7
Y: 2.0037508342787E7
- Spatial Reference: 102100
(3857)
Storage Info:
- Storage Format: esriMapCacheStorageModeCompactV2
- Packet Size: 128
Initial Extent:
XMin: -8493038.711652549
YMin: -1894980.6492456975
XMax: -7772838.949737405
YMax: -1399016.706357556
Spatial Reference: 102100
Full Extent:
XMin: -8460302.358838225
YMin: -2037571.005037824
XMax: -7805575.302551731
YMax: -1574192.2832536777
Spatial Reference: 102100
Units: esriMeters
Supported Image Format Types: PNG32,PNG24,PNG,JPG,DIB,TIFF,EMF,PS,PDF,GIF,SVG,SVGZ,BMP
Document Info:
Title: PER_ARE_Pedons
Author:
Comments: Calicatas/Pedons Map. The soil and site information accessible from this map is taken from the report titled, Elaboración del Estudio de Suelos Y la Clasificación de Tierras por su Capacidad de Uso Mayor en la Región Arequipa (Proyecto Desarrollo de Capacidades en Zonificación Ecológica Económica para el Ordenamiento Territorial en la Región Arequipa, Autoridad Regional Ambiental de Arequipa, Gobierno Regional Arequipa, Arequipa, Perú, 2016), and is used with the permission of the Regional Government of Arequipa. The base map was produced from the European Space Agency's Sentinel-2 satellite images for 2018. The images were cloud-filtered, mosaiced by date, and then the median value of each pixel was computed and returned for the red, green, and blue spectral bands using Google Earth Engine.
Subject: PER_ARE_Pedons
Category:
Keywords: Isee
AntialiasingMode: Fast
TextAntialiasingMode: Force
Supports Dynamic Layers: true
Resampling: false
MaxRecordCount: 2000
MaxSelectionCount: 2000
MaxImageHeight: 4096
MaxImageWidth: 4096
Supported Query Formats: JSON, geoJSON, PBF
Supports Query Data Elements: true
Min Scale: 591657527.591555
Max Scale: 36111.909642999999
Supports Datum Transformation: true
Child Resources:
Info
Dynamic Layer
Supported Operations:
Export Map
Identify
QueryLegends
QueryDomains
Find
Return Updates