View In:
ArcGIS JavaScript
ArcGIS Online Map Viewer
ArcGIS Earth
ArcGIS Pro
Service Description:
Map Name: Drainage_class_score2
Legend
All Layers and Tables
Dynamic Legend
Dynamic All Layers
Layers:
Description:
Service Item Id: 1d853acc3f7147c7b2d0a522cb8ed796
Copyright Text:
Spatial Reference:
102039
(102039)
Single Fused Map Cache: true
Tile Info:
- Height: 256.0
- Width: 256.0
- DPI: 96.0
-
Levels of Detail: 19
-
Level ID: 0
[ Start Tile, End Tile ]
- Resolution: 132038.88546868955
- Scale: 499044606.49583447
-
Level ID: 1
[ Start Tile, End Tile ]
- Resolution: 66019.442734344775
- Scale: 249522303.24791723
-
Level ID: 2
[ Start Tile, End Tile ]
- Resolution: 33009.721367172388
- Scale: 124761151.62395862
-
Level ID: 3
[ Start Tile, End Tile ]
- Resolution: 16504.860683586194
- Scale: 62380575.811979309
-
Level ID: 4
[ Start Tile, End Tile ]
- Resolution: 8252.4303417930969
- Scale: 31190287.905989654
-
Level ID: 5
[ Start Tile, End Tile ]
- Resolution: 4126.2151708965484
- Scale: 15595143.952994827
-
Level ID: 6
[ Start Tile, End Tile ]
- Resolution: 2063.1075854482742
- Scale: 7797571.9764974136
-
Level ID: 7
[ Start Tile, End Tile ]
- Resolution: 1031.5537927241371
- Scale: 3898785.9882487068
-
Level ID: 8
[ Start Tile, End Tile ]
- Resolution: 515.77689636206856
- Scale: 1949392.9941243534
-
Level ID: 9
[ Start Tile, End Tile ]
- Resolution: 257.88844818103428
- Scale: 974696.4970621767
-
Level ID: 10
[ Start Tile, End Tile ]
- Resolution: 128.94422409051714
- Scale: 487348.24853108835
-
Level ID: 11
[ Start Tile, End Tile ]
- Resolution: 64.472112045258569
- Scale: 243674.12426554417
-
Level ID: 12
[ Start Tile, End Tile ]
- Resolution: 32.236056022629285
- Scale: 121837.06213277209
-
Level ID: 13
[ Start Tile, End Tile ]
- Resolution: 16.118028011314642
- Scale: 60918.531066386044
-
Level ID: 14
[ Start Tile, End Tile ]
- Resolution: 8.0590140056573212
- Scale: 30459.265533193022
-
Level ID: 15
[ Start Tile, End Tile ]
- Resolution: 4.0295070028286606
- Scale: 15229.632766596511
-
Level ID: 16
[ Start Tile, End Tile ]
- Resolution: 2.0147535014143303
- Scale: 7614.8163832982555
-
Level ID: 17
[ Start Tile, End Tile ]
- Resolution: 1.0073767507071651
- Scale: 3807.4081916491277
-
Level ID: 18
[ Start Tile, End Tile ]
- Resolution: 0.50368837535358257
- Scale: 1903.7040958245639
- Format: Mixed
- Compression Quality: 75.0
- Origin: X: -1.6900977339992262E7
Y: 2.106395117933842E7
- Spatial Reference: 102039
(102039)
Storage Info:
- Storage Format: esriMapCacheStorageModeCompactV2
- Packet Size: 128
Initial Extent:
XMin: 85550.61593009817
YMin: 1547697.2866054277
XMax: 919772.7027817271
YMax: 2836218.630393124
Spatial Reference: 102039
(102039)
Full Extent:
XMin: -352638.3406440874
YMin: 1434487.958499276
XMax: 1357961.6593559128
YMax: 2949427.958499276
Spatial Reference: 102039
(102039)
Units: esriMeters
Supported Image Format Types: PNG32,PNG24,PNG,JPG,DIB,TIFF,EMF,PS,PDF,GIF,SVG,SVGZ,BMP
Document Info:
Title: Map
Author:
Comments:
Subject:
Category:
Keywords:
AntialiasingMode: Fast
TextAntialiasingMode: Force
Supports Dynamic Layers: true
Resampling: false
MaxRecordCount: 2000
MaxSelectionCount: 2000
MaxImageHeight: 4096
MaxImageWidth: 4096
Supported Query Formats: JSON, geoJSON, PBF
Supports Query Data Elements: true
Min Scale: 499044606.49583447
Max Scale: 30459.265533193022
Supports Datum Transformation: true
Child Resources:
Info
Dynamic Layer
Supported Operations:
Export Map
Identify
QueryLegends
QueryDomains
Find
Return Updates