View In:
ArcGIS JavaScript
ArcGIS Online Map Viewer
ArcGIS Earth
ArcGIS Pro
Service Description: Dominant Soil Parent Materials overlay by D. Evans, K. Adhikari, and A. Hartemink, University of Wisconsin, 2015. Based on FY 2013 gSSURGO, Soil Survey Staff, Natural Resources Conservation Service, United States Department of Agriculture. Gridded Soil Survey Geographic (SSURGO) Database for Wisconsin. Available online at http://datagateway.nrcs.usda.gov/ October 15, 2012.
Map Name: USA_WI_Parent_Materials
Legend
All Layers and Tables
Dynamic Legend
Dynamic All Layers
Layers:
Description: Dominant Soil Parent Materials overlay by D. Evans, K. Adhikari, and A. Hartemink, University of Wisconsin, 2015. Based on FY 2013 gSSURGO, Soil Survey Staff, Natural Resources Conservation Service, United States Department of Agriculture. Gridded Soil Survey Geographic (SSURGO) Database for Wisconsin. Available online at http://datagateway.nrcs.usda.gov/ October 15, 2012.
Service Item Id: 243f67c4397f4b52ab0bbfbf90875b77
Copyright Text: Univ. of Wisconsin, USDA
Spatial Reference:
102100
(3857)
Single Fused Map Cache: true
Tile Info:
- Height: 256.0
- Width: 256.0
- DPI: 96.0
-
Levels of Detail: 20
-
Level ID: 0
[ Start Tile, End Tile ]
- Resolution: 156543.03392800014
- Scale: 591657527.591555
-
Level ID: 1
[ Start Tile, End Tile ]
- Resolution: 78271.516963999937
- Scale: 295828763.79577702
-
Level ID: 2
[ Start Tile, End Tile ]
- Resolution: 39135.758482000092
- Scale: 147914381.89788899
-
Level ID: 3
[ Start Tile, End Tile ]
- Resolution: 19567.879240999919
- Scale: 73957190.948944002
-
Level ID: 4
[ Start Tile, End Tile ]
- Resolution: 9783.9396204999593
- Scale: 36978595.474472001
-
Level ID: 5
[ Start Tile, End Tile ]
- Resolution: 4891.9698102499797
- Scale: 18489297.737236001
-
Level ID: 6
[ Start Tile, End Tile ]
- Resolution: 2445.9849051249898
- Scale: 9244648.8686180003
-
Level ID: 7
[ Start Tile, End Tile ]
- Resolution: 1222.9924525624949
- Scale: 4622324.4343090001
-
Level ID: 8
[ Start Tile, End Tile ]
- Resolution: 611.49622628137968
- Scale: 2311162.2171550002
-
Level ID: 10
[ Start Tile, End Tile ]
- Resolution: 152.87405657041106
- Scale: 577790.55428899999
-
Level ID: 11
[ Start Tile, End Tile ]
- Resolution: 76.437028285073239
- Scale: 288895.27714399999
-
Level ID: 13
[ Start Tile, End Tile ]
- Resolution: 19.10925707126831
- Scale: 72223.819285999998
-
Level ID: 14
[ Start Tile, End Tile ]
- Resolution: 9.5546285356341549
- Scale: 36111.909642999999
-
Level ID: 16
[ Start Tile, End Tile ]
- Resolution: 2.3886571339746849
- Scale: 9027.9774109999998
-
Level ID: 17
[ Start Tile, End Tile ]
- Resolution: 1.1943285668550503
- Scale: 4513.9887049999998
-
Level ID: 19
[ Start Tile, End Tile ]
- Resolution: 0.29858214164761665
- Scale: 1128.4971760000001
- Format: PNG
- Compression Quality: 0.0
- Origin: X: -2.0037508342787E7
Y: 2.0037508342787E7
- Spatial Reference: 102100
(3857)
Storage Info:
- Storage Format: esriMapCacheStorageModeCompact
- Packet Size: 128
Initial Extent:
XMin: -1.107505795320747E7
YMin: 5099718.484318779
XMax: -8939868.048052832
YMax: 6570112.200305904
Spatial Reference: 102100
Full Extent:
XMin: -1.0355623000630151E7
YMin: 5232624.406229867
XMax: -9659303.000630151
YMax: 5957104.406229867
Spatial Reference: 102100
Units: esriMeters
Supported Image Format Types: PNG32,PNG24,PNG,JPG,DIB,TIFF,EMF,PS,PDF,GIF,SVG,SVGZ,BMP
Document Info:
Title: Dominant Soil Parent Materials
Author:
Comments: Dominant Soil Parent Materials overlay by D. Evans, K. Adhikari, and A. Hartemink, University of Wisconsin, 2015. Based on FY 2013 gSSURGO, Soil Survey Staff, Natural Resources Conservation Service, United States Department of Agriculture. Gridded Soil Survey Geographic (SSURGO) Database for Wisconsin. Available online at http://datagateway.nrcs.usda.gov/ October 15, 2012.
Subject: Dominant Soil Parent Materials for Wisconsin
Category:
Keywords: Isee,Wisconsin
AntialiasingMode: Fast
TextAntialiasingMode: Force
Supports Dynamic Layers: true
Resampling: false
MaxRecordCount: 2000
MaxSelectionCount: 2000
MaxImageHeight: 4096
MaxImageWidth: 4096
Supported Query Formats: JSON, geoJSON, PBF
Supports Query Data Elements: true
Min Scale: 36978595.474472001
Max Scale: 18055.954822
Supports Datum Transformation: true
Child Resources:
Info
Dynamic Layer
Supported Operations:
Export Map
Identify
QueryLegends
QueryDomains
Find
Return Updates