View In:
ArcGIS JavaScript
ArcGIS Online Map Viewer
ArcGIS Earth
Service Description: MellonFloodRisk/floodrisk_Initial_TOPO
Name: MellonFloodRisk/floodrisk_Initial_TOPO
Description:
Single Fused Map Cache: false
Extent:
XMin: 400965.0
YMin: 3202002.781868163
XMax: 946245.0
YMax: 3409362.781868163
Spatial Reference: 26915
(26915)
Initial Extent:
XMin: 400965.0
YMin: 3202002.781868163
XMax: 946245.0
YMax: 3409362.781868163
Spatial Reference: 26915
(26915)
Full Extent:
XMin: 400965.0
YMin: 3202002.781868163
XMax: 946245.0
YMax: 3409362.781868163
Spatial Reference: 26915
(26915)
Pixel Size X: 30.0
Pixel Size Y: 30.0
Band Count: 1
Pixel Type: F32
RasterFunction Infos: {"rasterFunctionInfos": [{
"help": "",
"name": "None",
"description": ""
}]}
Mensuration Capabilities: Basic
Inspection Capabilities:
Has Histograms: true
Has Colormap: false
Has Multi Dimensions : false
Rendering Rule:
Min Scale: 0
Max Scale: 0
Copyright Text:
Service Data Type: esriImageServiceDataTypeGeneric
Min Values: -343.04971313476562
Max Values: 50.273998260498047
Mean Values: 0.59343188619707543
Standard Deviation Values: 2.791901583424758
Object ID Field:
Fields:
None
Default Mosaic Method: Center
Allowed Mosaic Methods:
SortField:
SortValue: N/A
Mosaic Operator: First
Default Compression Quality: 75
Default Resampling Method: Bilinear
Max Record Count: null
Max Image Height: 4100
Max Image Width: 15000
Max Download Image Count: null
Max Mosaic Image Count: null
Allow Raster Function: true
Allow Copy: true
Allow Analysis: true
Allow Compute TiePoints: false
Supports Statistics: false
Supports Advanced Queries: false
Use StandardizedQueries: false
Raster Type Infos:
Name: Raster Dataset
Description: Supports all ArcGIS Raster Datasets
Help:
Has Raster Attribute Table: false
Edit Fields Info: N/A
Ownership Based AccessControl For Rasters: N/A
Child Resources:
Info
Histograms
Statistics
Key Properties
Legend
Raster Function Infos
Supported Operations:
Export Image
Identify
Measure
Compute Histograms
Compute Statistics Histograms
Get Samples
Compute Class Statistics
Query Boundary
Compute Pixel Location
Compute Angles
Validate
Project